BEGIN:VCALENDAR
VERSION:2.0
PRODID:spatie/icalendar-generator
DESCRIPTION:Events from Power to code
X-WR-CALDESC:Events from Power to code
REFRESH-INTERVAL;VALUE=DURATION:PT1440M
X-PUBLISHED-TTL:PT1440M
BEGIN:VTIMEZONE
TZID:Etc/GMT+0
BEGIN:STANDARD
DTSTART:20250417T190000Z
TZOFFSETFROM:+0000
TZOFFSETTO:+0000
END:STANDARD
END:VTIMEZONE
BEGIN:VTIMEZONE
TZID:UTC
BEGIN:STANDARD
DTSTART:20250723T193131Z
TZOFFSETFROM:+0000
TZOFFSETTO:+0000
END:STANDARD
END:VTIMEZONE
BEGIN:VEVENT
UID:100-87
DTSTAMP:20260419T193131Z
SUMMARY:Taller de Resolución de Dudas: Mentoría Technovation Girls 2026
LOCATION:Online Event
ORGANIZER;CN=Eva Carrasco:MAILTO:eva.carrascogonzalez@gmail.com
DTSTART;TZID=Etc/GMT+0:20260112T190000
DTEND;TZID=Etc/GMT+0:20260112T203000
X-ALT-DESC;FMTTYPE=TEXT/HTML:¿Eres mentora en esta edición de Technovatio
 n Girls y tienes dudas sobre el proceso? ¡Este espacio es para ti! Sabemo
 s que guiar a un equipo de niñas y jóvenes en la creación de una app y 
 un plan de negocio es un reto emocionante\, pero a veces surgen preguntas 
 técnicas o de metodología. En este&amp;hellip\;
CATEGORIES:PowerToCode
URL;VALUE=URI:https://powertocode.org/mc-events/taller-de-resolucion-de-dud
 as-mentoria-technovation-girls-2026/
METHOD:PUBLISH
END:VEVENT
END:VCALENDAR