BEGIN:VCALENDAR
VERSION:2.0
PRODID:spatie/icalendar-generator
DESCRIPTION:Events from Power to code
X-WR-CALDESC:Events from Power to code
REFRESH-INTERVAL;VALUE=DURATION:PT1440M
X-PUBLISHED-TTL:PT1440M
BEGIN:VTIMEZONE
TZID:Etc/GMT+0
BEGIN:STANDARD
DTSTART:20250420T190000Z
TZOFFSETFROM:+0000
TZOFFSETTO:+0000
END:STANDARD
END:VTIMEZONE
BEGIN:VTIMEZONE
TZID:UTC
BEGIN:STANDARD
DTSTART:20250723T175651Z
TZOFFSETFROM:+0000
TZOFFSETTO:+0000
END:STANDARD
END:VTIMEZONE
BEGIN:VEVENT
UID:101-88
DTSTAMP:20260419T175651Z
SUMMARY:Design Thinking para mentores Technovation Girls 2026
LOCATION:Online Event
ORGANIZER;CN=Eva Carrasco:MAILTO:eva.carrascogonzalez@gmail.com
DTSTART;TZID=Etc/GMT+0:20260115T190000
DTEND;TZID=Etc/GMT+0:20260115T203000
X-ALT-DESC;FMTTYPE=TEXT/HTML:La primera fase del programa Technovation Girl
 s es buscar un problema en tu comunidad y pensar cómo tu equipo puede res
 olverlo con una app o un proyecto de inteligencia articificial. En este ta
 ller te contaremos formas para tener ideas y organizarlas hasta elegir una
  buena idea de problema y de forma de resolverlo.Te guiapara en&amp;hellip\;
CATEGORIES:PowerToCode
URL;VALUE=URI:https://powertocode.org/mc-events/design-thinking-para-mentor
 es-technovation-girls-2026/
METHOD:PUBLISH
END:VEVENT
END:VCALENDAR