BEGIN:VCALENDAR
VERSION:2.0
PRODID:spatie/icalendar-generator
DESCRIPTION:Events from Power to code
X-WR-CALDESC:Events from Power to code
REFRESH-INTERVAL;VALUE=DURATION:PT1440M
X-PUBLISHED-TTL:PT1440M
BEGIN:VTIMEZONE
TZID:Etc/GMT+0
BEGIN:STANDARD
DTSTART:20250425T180000Z
TZOFFSETFROM:+0000
TZOFFSETTO:+0000
END:STANDARD
END:VTIMEZONE
BEGIN:VTIMEZONE
TZID:UTC
BEGIN:STANDARD
DTSTART:20250723T163212Z
TZOFFSETFROM:+0000
TZOFFSETTO:+0000
END:STANDARD
END:VTIMEZONE
BEGIN:VEVENT
UID:102-89
DTSTAMP:20260419T163212Z
SUMMARY:Objetivos de Desarrollo Sostenible Technovation Girls 2026
LOCATION:Escuela Técnica Superior de Ingenieros Industriales UPM 2 Calle d
 e José Gutiérrez Abascal\, 28006 Madrid  Madrid MD 28006
ORGANIZER;CN=Eva Carrasco:MAILTO:eva.carrascogonzalez@gmail.com
DTSTART;TZID=Etc/GMT+0:20260120T180000
DTEND;TZID=Etc/GMT+0:20260120T193000
X-ALT-DESC;FMTTYPE=TEXT/HTML:Para ganar más puntos\, tu app o tu proyecto 
 de inteligencia artificial tiene que ayudar a cumplir uno de los Objetivos
  de Desarrollo Sostenible (ODS) o SDG en inglés. Este taller orientado a 
 chicas participantes nos descubre de forma divertida cuáles son los ODS. 
 Imparten el taller voluntarios de la Fundación NTT DATA. Ven preparada&amp;he
 llip\;
CATEGORIES:PowerToCode
URL;VALUE=URI:https://powertocode.org/mc-events/objetivos-de-desarrollo-sos
 tenible-technovation-girls-2026/
METHOD:PUBLISH
END:VEVENT
END:VCALENDAR