BEGIN:VCALENDAR
VERSION:2.0
PRODID:spatie/icalendar-generator
DESCRIPTION:Events from Power to code
X-WR-CALDESC:Events from Power to code
REFRESH-INTERVAL;VALUE=DURATION:PT1440M
X-PUBLISHED-TTL:PT1440M
BEGIN:VTIMEZONE
TZID:Etc/GMT+0
BEGIN:STANDARD
DTSTART:20250427T190000Z
TZOFFSETFROM:+0000
TZOFFSETTO:+0000
END:STANDARD
END:VTIMEZONE
BEGIN:VTIMEZONE
TZID:UTC
BEGIN:STANDARD
DTSTART:20250723T174313Z
TZOFFSETFROM:+0000
TZOFFSETTO:+0000
END:STANDARD
END:VTIMEZONE
BEGIN:VEVENT
UID:103-90
DTSTAMP:20260419T174313Z
SUMMARY:Introducción a AppInventor para Mentores - Technovation Girls
LOCATION:Online Event
ORGANIZER;CN=Eva Carrasco:MAILTO:eva.carrascogonzalez@gmail.com
DTSTART;TZID=Etc/GMT+0:20260122T190000
DTEND;TZID=Etc/GMT+0:20260122T203000
X-ALT-DESC;FMTTYPE=TEXT/HTML:Este año\, para resolver el problema que han 
 identificado\, tu equipo puede elegir crear una app móvil o web. En este 
 taller te contaremos cómo ayudar a tu equipo a programar una app en App I
 nventor. REQUISITO PARA PODER REALIZAR EL TALLER: Cuenta de APPINVENTOR\, 
 debe estar creada y activa\, un portátil y un móvil&amp;hellip\;
CATEGORIES:PowerToCode
URL;VALUE=URI:https://powertocode.org/mc-events/introduccion-a-appinventor-
 para-mentores-technovation-girls-2/
METHOD:PUBLISH
END:VEVENT
END:VCALENDAR