BEGIN:VCALENDAR
VERSION:2.0
PRODID:spatie/icalendar-generator
DESCRIPTION:Events from Power to code
X-WR-CALDESC:Events from Power to code
REFRESH-INTERVAL;VALUE=DURATION:PT1440M
X-PUBLISHED-TTL:PT1440M
BEGIN:VTIMEZONE
TZID:Etc/GMT+0
BEGIN:STANDARD
DTSTART:20250504T183000Z
TZOFFSETFROM:+0000
TZOFFSETTO:+0000
END:STANDARD
END:VTIMEZONE
BEGIN:VTIMEZONE
TZID:UTC
BEGIN:STANDARD
DTSTART:20250723T174043Z
TZOFFSETFROM:+0000
TZOFFSETTO:+0000
END:STANDARD
END:VTIMEZONE
BEGIN:VEVENT
UID:105-92
DTSTAMP:20260419T174043Z
SUMMARY:Taller Scratch- Technovation Girls para Beginner
LOCATION:Online Event
ORGANIZER;CN=Eva Carrasco:MAILTO:eva.carrascogonzalez@gmail.com
DTSTART;TZID=Etc/GMT+0:20260129T183000
DTEND;TZID=Etc/GMT+0:20260129T200000
X-ALT-DESC;FMTTYPE=TEXT/HTML:Este evento está diseñado para fomentar la c
 reatividad y el aprendizaje en programación a través de Scratch\, una pl
 ataforma visual que permite a los usuarios crear sus propios proyectos int
 eractivos. El taller está dirigido a mentores que deseen guiar a niñas e
 n el mundo de la programación\, así como a las propias participantes que
  quieren&amp;hellip\;
CATEGORIES:PowerToCode
URL;VALUE=URI:https://powertocode.org/mc-events/taller-scratch-technovation
 -girls-para-beginner-2/
METHOD:PUBLISH
END:VEVENT
END:VCALENDAR