BEGIN:VCALENDAR
VERSION:2.0
PRODID:spatie/icalendar-generator
DESCRIPTION:Events from Power to code
X-WR-CALDESC:Events from Power to code
REFRESH-INTERVAL;VALUE=DURATION:PT1440M
X-PUBLISHED-TTL:PT1440M
BEGIN:VTIMEZONE
TZID:Etc/GMT+0
BEGIN:STANDARD
DTSTART:20250510T183000Z
TZOFFSETFROM:+0000
TZOFFSETTO:+0000
END:STANDARD
END:VTIMEZONE
BEGIN:VTIMEZONE
TZID:UTC
BEGIN:STANDARD
DTSTART:20250723T191203Z
TZOFFSETFROM:+0000
TZOFFSETTO:+0000
END:STANDARD
END:VTIMEZONE
BEGIN:VEVENT
UID:110-94
DTSTAMP:20260419T191203Z
SUMMARY:Inteligencia Artifical I para Chicas participantes y Mentores
LOCATION:Online Event
ORGANIZER;CN=Eva Carrasco:MAILTO:eva.carrascogonzalez@gmail.com
DTSTART;TZID=Etc/GMT+0:20260204T183000
DTEND;TZID=Etc/GMT+0:20260204T200000
X-ALT-DESC;FMTTYPE=TEXT/HTML:En este taller enseñaremos a las chicas parti
 cipantes y mentores qué es la Inteligencia Artificial. El número de entr
 adas es limitado y está reservado para que las menores participantes pued
 an interactuar con la ponente. S i eres un ADULTO (Mentor\, padre)\, puede
 s compartir la conexión con una menor o seguir el taller por YouTube en&amp;h
 ellip\;
CATEGORIES:PowerToCode
URL;VALUE=URI:https://powertocode.org/mc-events/inteligencia-artifical-i-pa
 ra-chicas-participantes-y-mentores-2/
METHOD:PUBLISH
END:VEVENT
END:VCALENDAR