BEGIN:VCALENDAR
VERSION:2.0
PRODID:spatie/icalendar-generator
DESCRIPTION:Events from Power to code
X-WR-CALDESC:Events from Power to code
REFRESH-INTERVAL;VALUE=DURATION:PT1440M
X-PUBLISHED-TTL:PT1440M
BEGIN:VTIMEZONE
TZID:Etc/GMT+0
BEGIN:STANDARD
DTSTART:20230521T190000Z
TZOFFSETFROM:+0000
TZOFFSETTO:+0000
END:STANDARD
END:VTIMEZONE
BEGIN:VTIMEZONE
TZID:UTC
BEGIN:STANDARD
DTSTART:20250729T213206Z
TZOFFSETFROM:+0000
TZOFFSETTO:+0000
END:STANDARD
END:VTIMEZONE
BEGIN:VEVENT
UID:14-14
DTSTAMP:20260425T213206Z
SUMMARY:Taller AppInventor para Mentor@s II
LOCATION:
ORGANIZER;CN=Eva Carrasco:MAILTO:eva.carrascogonzalez@gmail.com
DTSTART;TZID=Etc/GMT+0:20240215T190000
DTEND;TZID=Etc/GMT+0:20240215T203000
X-ALT-DESC;FMTTYPE=TEXT/HTML:Este año\, para resolver el problema que han 
 identificado\, tu equipo puede elegir crear una app móvil\, hacer un proy
 ecto de Inteligencia Artificial\, o crear una app que use inteligencia art
 ificial. Objetivo: Práctica de desarrollo con App Inventor. Precondición
 : Conexión al App Inventor para poder probar sobre la marcha y un móvil 
 (no iphone) Agenda:&amp;hellip\;
CATEGORIES:PowerToCode
URL;VALUE=URI:https://powertocode.org/mc-events/taller-appinventor-para-men
 tors-ii/
METHOD:PUBLISH
END:VEVENT
END:VCALENDAR