BEGIN:VCALENDAR
VERSION:2.0
PRODID:spatie/icalendar-generator
DESCRIPTION:Events from Power to code
X-WR-CALDESC:Events from Power to code
REFRESH-INTERVAL;VALUE=DURATION:PT1440M
X-PUBLISHED-TTL:PT1440M
BEGIN:VTIMEZONE
TZID:Etc/GMT+0
BEGIN:STANDARD
DTSTART:20230729T000000Z
TZOFFSETFROM:+0000
TZOFFSETTO:+0000
END:STANDARD
END:VTIMEZONE
BEGIN:VTIMEZONE
TZID:UTC
BEGIN:STANDARD
DTSTART:20250729T154202Z
TZOFFSETFROM:+0000
TZOFFSETTO:+0000
END:STANDARD
END:VTIMEZONE
BEGIN:VEVENT
UID:21-20
DTSTAMP:20260425T154202Z
SUMMARY:Fecha límite para entregar los proyectos en la plataforma
LOCATION:
ORGANIZER;CN=Eva Carrasco:MAILTO:eva.carrascogonzalez@gmail.com
DTSTART;TZID=Etc/GMT+0;VALUE=DATE:20240424
DTEND;TZID=Etc/GMT+0;VALUE=DATE:20240425
X-ALT-DESC;FMTTYPE=TEXT/HTML:Este es un recordatorio importante: ¡Hoy es e
 l último día para entregar sus proyectos! Aseguraté de completar todos 
 los detalles y enviar tus presentaciones antes de que termine el día. Est
 e es tu momento para brillar y mostrar todo el trabajo duro y la creativid
 ad que habeis invertido en vuestros proyectos. No dejeis pasar esta&amp;hellip
 \;
CATEGORIES:Technovation
URL;VALUE=URI:https://powertocode.org/mc-events/fecha-limite-para-entregar-
 los-proyectos-en-la-plataforma/
METHOD:PUBLISH
END:VEVENT
END:VCALENDAR