BEGIN:VCALENDAR
VERSION:2.0
PRODID:spatie/icalendar-generator
DESCRIPTION:Events from Power to code
X-WR-CALDESC:Events from Power to code
REFRESH-INTERVAL;VALUE=DURATION:PT1440M
X-PUBLISHED-TTL:PT1440M
BEGIN:VTIMEZONE
TZID:Etc/GMT+0
BEGIN:STANDARD
DTSTART:20230622T000000Z
TZOFFSETFROM:+0000
TZOFFSETTO:+0000
END:STANDARD
END:VTIMEZONE
BEGIN:VTIMEZONE
TZID:UTC
BEGIN:STANDARD
DTSTART:20250729T171108Z
TZOFFSETFROM:+0000
TZOFFSETTO:+0000
END:STANDARD
END:VTIMEZONE
BEGIN:VEVENT
UID:22-21
DTSTAMP:20260425T171108Z
SUMMARY:Inicio inscripciones Jueces
LOCATION:
ORGANIZER;CN=Eva Carrasco:MAILTO:eva.carrascogonzalez@gmail.com
DTSTART;TZID=Etc/GMT+0:20240318T000000
DTEND;TZID=Etc/GMT+0:20240318T000000
X-ALT-DESC;FMTTYPE=TEXT/HTML:Súmate como Juez para animar a las jóvenes e
 mprendedoras de Technovation Girls a seguir construyendo un mundo mejor. P
 re-inscribirte en este formulario para que te avisemos cuando se abra la i
 nscripción formal en https://technovationchallenge.org/ Como juez Technov
 ation\, evaluarás las aplicaciones móviles y los proyectos de inteligenc
 ia artificial que los equipos de chicas han construido desde&amp;hellip\;
CATEGORIES:Technovation
URL;VALUE=URI:https://powertocode.org/mc-events/inicio-inscripciones-jueces
 /
METHOD:PUBLISH
END:VEVENT
END:VCALENDAR