BEGIN:VCALENDAR
VERSION:2.0
PRODID:spatie/icalendar-generator
DESCRIPTION:Events from Power to code
X-WR-CALDESC:Events from Power to code
REFRESH-INTERVAL;VALUE=DURATION:PT1440M
X-PUBLISHED-TTL:PT1440M
BEGIN:VTIMEZONE
TZID:Etc/GMT+0
BEGIN:STANDARD
DTSTART:20230708T183000Z
TZOFFSETFROM:+0000
TZOFFSETTO:+0000
END:STANDARD
END:VTIMEZONE
BEGIN:VTIMEZONE
TZID:UTC
BEGIN:STANDARD
DTSTART:20250729T155000Z
TZOFFSETFROM:+0000
TZOFFSETTO:+0000
END:STANDARD
END:VTIMEZONE
BEGIN:VEVENT
UID:24-23
DTSTAMP:20260425T155000Z
SUMMARY:Plan de negocio y Plan de marketing
LOCATION:
ORGANIZER;CN=Eva Carrasco:MAILTO:eva.carrascogonzalez@gmail.com
DTSTART;TZID=Etc/GMT+0:20240403T183000
DTEND;TZID=Etc/GMT+0:20240403T200000
X-ALT-DESC;FMTTYPE=TEXT/HTML:En este taller las chicas participantes adquir
 irán conceptos para elaborar el plan de marketing y el plan de negocio re
 queridos para la división senior. El número de entradas es limitado. Os 
 rogamos responsabilidad a la hora de adquirir entradas. Por favor no compr
 éis entradas si podéis compartir la conexión o seguir el taller por You
 Tube&amp;hellip\;
CATEGORIES:PowerToCode
URL;VALUE=URI:https://powertocode.org/mc-events/plan-de-negocio-y-plan-de-m
 arketing/
METHOD:PUBLISH
END:VEVENT
END:VCALENDAR