BEGIN:VCALENDAR
VERSION:2.0
PRODID:spatie/icalendar-generator
DESCRIPTION:Events from Power to code
X-WR-CALDESC:Events from Power to code
REFRESH-INTERVAL;VALUE=DURATION:PT1440M
X-PUBLISHED-TTL:PT1440M
BEGIN:VTIMEZONE
TZID:Etc/GMT+0
BEGIN:STANDARD
DTSTART:20231001T000000Z
TZOFFSETFROM:+0000
TZOFFSETTO:+0000
END:STANDARD
END:VTIMEZONE
BEGIN:VTIMEZONE
TZID:UTC
BEGIN:STANDARD
DTSTART:20250729T114055Z
TZOFFSETFROM:+0000
TZOFFSETTO:+0000
END:STANDARD
END:VTIMEZONE
BEGIN:VEVENT
UID:27-26
DTSTAMP:20260425T114055Z
SUMMARY:Evento Presencial  CAE / IBERIA
LOCATION:CAE / IBERIA
ORGANIZER;CN=Eva Carrasco:MAILTO:eva.carrascogonzalez@gmail.com
DTSTART;TZID=Etc/GMT+0;VALUE=DATE:20240627
DTEND;TZID=Etc/GMT+0;VALUE=DATE:20240628
X-ALT-DESC;FMTTYPE=TEXT/HTML:¡Hola chicas! ¿Has soñado alguna vez con vo
 lar\, crear y diseñar aviones\, o incluso convertirte en una experta en e
 l mantenimiento de aeronaves? Si la respuesta es sí\, sigue leyendo\, por
 que tenemos una gran noticia para ti. Vuelve “Quiero Ser”\, una inicia
 tiva de Iberia en colaboración con CAE y Technovation Girls Madrid\, dise
 ñado especialmente para&amp;hellip\;
CATEGORIES:PowerToCode
URL;VALUE=URI:https://powertocode.org/mc-events/evento-presencial-cae-iberi
 a/
METHOD:PUBLISH
END:VEVENT
END:VCALENDAR