BEGIN:VCALENDAR
VERSION:2.0
PRODID:spatie/icalendar-generator
DESCRIPTION:Events from Power to code
X-WR-CALDESC:Events from Power to code
REFRESH-INTERVAL;VALUE=DURATION:PT1440M
X-PUBLISHED-TTL:PT1440M
BEGIN:VTIMEZONE
TZID:Etc/GMT+0
BEGIN:STANDARD
DTSTART:20230822T103000Z
TZOFFSETFROM:+0000
TZOFFSETTO:+0000
END:STANDARD
END:VTIMEZONE
BEGIN:VTIMEZONE
TZID:UTC
BEGIN:STANDARD
DTSTART:20250729T113550Z
TZOFFSETFROM:+0000
TZOFFSETTO:+0000
END:STANDARD
END:VTIMEZONE
BEGIN:VEVENT
UID:31-29
DTSTAMP:20260425T113550Z
SUMMARY:¡Participa en TechVision Girls y potencia tus habilidades tecnoló
 gicas!
LOCATION:Campus de MIOTI C/ Joaquín Costa 20  Madrid Madrid 28002
ORGANIZER;CN=Eva Carrasco:MAILTO:eva.carrascogonzalez@gmail.com
DTSTART;TZID=Etc/GMT+0:20240518T103000
DTEND;TZID=Etc/GMT+0:20240518T133000
X-ALT-DESC;FMTTYPE=TEXT/HTML:Hola\, &amp;nbsp\; ¡Estamos emocionadas de invita
 rte a formar parte de TechVision Girls\, un evento que promete inspirarte 
 e impulsar tu futuro en el mundo de la tecnología! En colaboración con P
 ower to Code\, MIOTI Tech &amp;amp\; Business School ha preparado una jornada 
 inolvidable con charlas motivadoras y talleres prácticos diseñados para 
 chicas como tú\, de&amp;hellip\;
CATEGORIES:PowerToCode
URL;VALUE=URI:https://powertocode.org/mc-events/participa-en-techvision-gir
 ls-y-potencia-tus-habilidades-tecnologicas/
METHOD:PUBLISH
END:VEVENT
END:VCALENDAR