BEGIN:VCALENDAR
VERSION:2.0
PRODID:spatie/icalendar-generator
DESCRIPTION:Events from Power to code
X-WR-CALDESC:Events from Power to code
REFRESH-INTERVAL;VALUE=DURATION:PT1440M
X-PUBLISHED-TTL:PT1440M
BEGIN:VTIMEZONE
TZID:Etc/GMT+0
BEGIN:STANDARD
DTSTART:20240115T000000Z
TZOFFSETFROM:+0000
TZOFFSETTO:+0000
END:STANDARD
END:VTIMEZONE
BEGIN:VTIMEZONE
TZID:UTC
BEGIN:STANDARD
DTSTART:20250723T203026Z
TZOFFSETFROM:+0000
TZOFFSETTO:+0000
END:STANDARD
END:VTIMEZONE
BEGIN:VEVENT
UID:40-37
DTSTAMP:20260419T203026Z
SUMMARY:Apertura de inscripciones:   11 de octubre de 2024
LOCATION:
ORGANIZER;CN=Eva Carrasco:MAILTO:eva.carrascogonzalez@gmail.com
DTSTART;TZID=Etc/GMT+0;VALUE=DATE:20241011
DTEND;TZID=Etc/GMT+0;VALUE=DATE:20241012
X-ALT-DESC;FMTTYPE=TEXT/HTML:12 semanas para la presentación: 10 de febre
 ro de 2025 Esta es la fecha límite que recomendamos para iniciar el progr
 ama. Fecha límite de inscripción (estudiantes y mentores): 17 de marzo 
 de 2025 a las 23:59 UTC. Último día para inscribir formalmente a un equi
 po. Nota: recomendamos comenzar el proyecto en enero\, no en marzo.  
CATEGORIES:Technovation
URL;VALUE=URI:https://powertocode.org/mc-events/apertura-de-inscripciones-1
 1-de-octubre-de-2024/
METHOD:PUBLISH
END:VEVENT
END:VCALENDAR