BEGIN:VCALENDAR
VERSION:2.0
PRODID:spatie/icalendar-generator
DESCRIPTION:Events from Power to code
X-WR-CALDESC:Events from Power to code
REFRESH-INTERVAL;VALUE=DURATION:PT1440M
X-PUBLISHED-TTL:PT1440M
BEGIN:VTIMEZONE
TZID:Etc/GMT+0
BEGIN:STANDARD
DTSTART:20240121T000000Z
TZOFFSETFROM:+0000
TZOFFSETTO:+0000
END:STANDARD
END:VTIMEZONE
BEGIN:VTIMEZONE
TZID:UTC
BEGIN:STANDARD
DTSTART:20250723T214536Z
TZOFFSETFROM:+0000
TZOFFSETTO:+0000
END:STANDARD
END:VTIMEZONE
BEGIN:VEVENT
UID:41-38
DTSTAMP:20260419T214536Z
SUMMARY:Final internacional Technovation Girls 2024
LOCATION:
ORGANIZER;CN=Eva Carrasco:MAILTO:eva.carrascogonzalez@gmail.com
DTSTART;TZID=Etc/GMT+0:20241017T000000
DTEND;TZID=Etc/GMT+0:20241017T010000
X-ALT-DESC;FMTTYPE=TEXT/HTML:\"Consigue tu entrada para la final en online\
 " ¡Vuelve la Cumbre Mundial! El evento final de la temporada de Technovat
 ion Girls se llevará a cabo el 17 de octubre de 2024 Qué esperar: La ce
 remonia de presentación de los finalistas y entrega de premios de Technov
 ation World Summit es una tarde de aprendizaje\, conexión global e inspi
 ración&amp;hellip\;
CATEGORIES:Technovation
URL;VALUE=URI:https://powertocode.org/mc-events/final-internacional-technov
 ation-girls-2024/
METHOD:PUBLISH
END:VEVENT
END:VCALENDAR