BEGIN:VCALENDAR
VERSION:2.0
PRODID:spatie/icalendar-generator
DESCRIPTION:Events from Power to code
X-WR-CALDESC:Events from Power to code
REFRESH-INTERVAL;VALUE=DURATION:PT1440M
X-PUBLISHED-TTL:PT1440M
BEGIN:VTIMEZONE
TZID:Etc/GMT+0
BEGIN:STANDARD
DTSTART:20240620T000000Z
TZOFFSETFROM:+0000
TZOFFSETTO:+0000
END:STANDARD
END:VTIMEZONE
BEGIN:VTIMEZONE
TZID:UTC
BEGIN:STANDARD
DTSTART:20250723T222008Z
TZOFFSETFROM:+0000
TZOFFSETTO:+0000
END:STANDARD
END:VTIMEZONE
BEGIN:VEVENT
UID:42-39
DTSTAMP:20260419T222008Z
SUMMARY:Fecha límite de inscripción (estudiantes y mentores): 17 de marzo
  de 2025 a las 23:59 UTC.
LOCATION:
ORGANIZER;CN=Eva Carrasco:MAILTO:eva.carrascogonzalez@gmail.com
DTSTART;TZID=Etc/GMT+0:20250317T000000
DTEND;TZID=Etc/GMT+0:20250317T010000
X-ALT-DESC;FMTTYPE=TEXT/HTML:Último día para inscribir formalmente a un e
 quipo. Nota: recomendamos comenzar el proyecto en enero\, no en marzo. 
  
CATEGORIES:Technovation
URL;VALUE=URI:https://powertocode.org/mc-events/fecha-limite-de-inscripcion
 -estudiantes-y-mentores-17-de-marzo-de-2025-a-las-2359-utc/
METHOD:PUBLISH
END:VEVENT
END:VCALENDAR