BEGIN:VCALENDAR
VERSION:2.0
PRODID:spatie/icalendar-generator
DESCRIPTION:Events from Power to code
X-WR-CALDESC:Events from Power to code
REFRESH-INTERVAL;VALUE=DURATION:PT1440M
X-PUBLISHED-TTL:PT1440M
BEGIN:VTIMEZONE
TZID:Etc/GMT+0
BEGIN:STANDARD
DTSTART:20240519T190000Z
TZOFFSETFROM:+0000
TZOFFSETTO:+0000
END:STANDARD
END:VTIMEZONE
BEGIN:VTIMEZONE
TZID:UTC
BEGIN:STANDARD
DTSTART:20250723T175605Z
TZOFFSETFROM:+0000
TZOFFSETTO:+0000
END:STANDARD
END:VTIMEZONE
BEGIN:VEVENT
UID:52-46
DTSTAMP:20260419T175605Z
SUMMARY:Taller AppInventor para Mentores II - Technovation Girls
LOCATION:
ORGANIZER;CN=Eva Carrasco:MAILTO:eva.carrascogonzalez@gmail.com
DTSTART;TZID=Etc/GMT+0:20250213T190000
DTEND;TZID=Etc/GMT+0:20250213T200000
X-ALT-DESC;FMTTYPE=TEXT/HTML:Después de haber explorado los conceptos bás
 icos de App Inventor en la primera parte\, este taller está diseñado par
 a llevar tus habilidades al siguiente nivel. En esta segunda parte\, profu
 ndizaremos en técnicas más avanzadas y funcionalidades que te permitirá
 n crear aplicaciones más complejas y dinámicas. Si no pudiste asistir a 
 la primera parte puedes verla&amp;hellip\;
CATEGORIES:PowerToCode
URL;VALUE=URI:https://powertocode.org/mc-events/taller-appinventor-para-men
 tores-ii-technovation-girls/
METHOD:PUBLISH
END:VEVENT
END:VCALENDAR