BEGIN:VCALENDAR
VERSION:2.0
PRODID:spatie/icalendar-generator
DESCRIPTION:Events from Power to code
X-WR-CALDESC:Events from Power to code
REFRESH-INTERVAL;VALUE=DURATION:PT1440M
X-PUBLISHED-TTL:PT1440M
BEGIN:VTIMEZONE
TZID:Etc/GMT+0
BEGIN:STANDARD
DTSTART:20240510T183000Z
TZOFFSETFROM:+0000
TZOFFSETTO:+0000
END:STANDARD
END:VTIMEZONE
BEGIN:VTIMEZONE
TZID:UTC
BEGIN:STANDARD
DTSTART:20250723T202027Z
TZOFFSETFROM:+0000
TZOFFSETTO:+0000
END:STANDARD
END:VTIMEZONE
BEGIN:VEVENT
UID:57-50
DTSTAMP:20260419T202027Z
SUMMARY:Inteligencia Artifical I para Chicas Participantes y Mentores
LOCATION:
ORGANIZER;CN=Eva Carrasco:MAILTO:eva.carrascogonzalez@gmail.com
DTSTART;TZID=Etc/GMT+0:20250204T183000
DTEND;TZID=Etc/GMT+0:20250204T193000
X-ALT-DESC;FMTTYPE=TEXT/HTML:Technovation Girls nos pide resolver un proble
 ma en nuestra comunidad con una app o un proyecto de inteligencia artifici
 al. En este taller enseñaremos a las chicas participantes qué es la Inte
 ligencia Artificial y darán sus primeros pasos en AppInventor\, un progra
 ma para codificar aplicaciones móviles de forma muy sencilla. El número 
 de entradas es limitado&amp;hellip\;
CATEGORIES:PowerToCode
URL;VALUE=URI:https://powertocode.org/mc-events/inteligencia-artifical-i-pa
 ra-chicas-participantes-y-mentores/
METHOD:PUBLISH
END:VEVENT
END:VCALENDAR