BEGIN:VCALENDAR
VERSION:2.0
PRODID:spatie/icalendar-generator
DESCRIPTION:Events from Power to code
X-WR-CALDESC:Events from Power to code
REFRESH-INTERVAL;VALUE=DURATION:PT1440M
X-PUBLISHED-TTL:PT1440M
BEGIN:VTIMEZONE
TZID:Etc/GMT+0
BEGIN:STANDARD
DTSTART:20240517T183000Z
TZOFFSETFROM:+0000
TZOFFSETTO:+0000
END:STANDARD
END:VTIMEZONE
BEGIN:VTIMEZONE
TZID:UTC
BEGIN:STANDARD
DTSTART:20250723T203848Z
TZOFFSETFROM:+0000
TZOFFSETTO:+0000
END:STANDARD
END:VTIMEZONE
BEGIN:VEVENT
UID:60-53
DTSTAMP:20260419T203848Z
SUMMARY:Introducción Web app para Chicas Participantes I
LOCATION:
ORGANIZER;CN=Eva Carrasco:MAILTO:eva.carrascogonzalez@gmail.com
DTSTART;TZID=Etc/GMT+0:20250211T183000
DTEND;TZID=Etc/GMT+0:20250211T200000
X-ALT-DESC;FMTTYPE=TEXT/HTML:¡Bienvenidos al emocionante mundo del desarro
 llo de aplicaciones web! Te invitamos a participar en nuestro taller bási
 co\, donde aprenderás los fundamentos para crear tu propia web app de man
 era sencilla y divertida. En este taller\, diseñado especialmente para pr
 incipiantes\, exploraremos los conceptos básicos del desarrollo de aplica
 ciones web. No necesitas tener experiencia previa\, solo ganas&amp;hellip\;
CATEGORIES:PowerToCode
URL;VALUE=URI:https://powertocode.org/mc-events/introduccion-web-app-para-c
 hicas-participantes-i/
METHOD:PUBLISH
END:VEVENT
END:VCALENDAR