BEGIN:VCALENDAR
VERSION:2.0
PRODID:spatie/icalendar-generator
DESCRIPTION:Events from Power to code
X-WR-CALDESC:Events from Power to code
REFRESH-INTERVAL;VALUE=DURATION:PT1440M
X-PUBLISHED-TTL:PT1440M
BEGIN:VTIMEZONE
TZID:Etc/GMT+0
BEGIN:STANDARD
DTSTART:20240603T103000Z
TZOFFSETFROM:+0000
TZOFFSETTO:+0000
END:STANDARD
END:VTIMEZONE
BEGIN:VTIMEZONE
TZID:UTC
BEGIN:STANDARD
DTSTART:20250723T175617Z
TZOFFSETFROM:+0000
TZOFFSETTO:+0000
END:STANDARD
END:VTIMEZONE
BEGIN:VEVENT
UID:63-56
DTSTAMP:20260419T175617Z
SUMMARY:Te invitamos  a las instalaciones de Siemens en  Tres Cantos
LOCATION:SIEMENS   TRES CANTOS MADRID
ORGANIZER;CN=Eva Carrasco:MAILTO:eva.carrascogonzalez@gmail.com
DTSTART;TZID=Etc/GMT+0:20250228T103000
DTEND;TZID=Etc/GMT+0:20250228T143000
X-ALT-DESC;FMTTYPE=TEXT/HTML:👋¡Hola participante de Technovation Girls!
   ­ Nos encantaría invitarte a una experiencia única: una visita a la
 s instalaciones de Siemens en Tres Cantos\, una de las empresas líderes
  en la construcción y diseño de trenes. Esta es una increíble oportuni
 dad para conocer cómo se crean estos grandes vehículos de transporte y d
 escubrir el fascinante mundo de la ingeniería y&amp;hellip\;
CATEGORIES:PowerToCode
URL;VALUE=URI:https://powertocode.org/mc-events/te-invitamos-a-las-instalac
 iones-de-siemens-en-tres-cantos/
METHOD:PUBLISH
END:VEVENT
END:VCALENDAR