BEGIN:VCALENDAR
VERSION:2.0
PRODID:spatie/icalendar-generator
DESCRIPTION:Events from Power to code
X-WR-CALDESC:Events from Power to code
REFRESH-INTERVAL;VALUE=DURATION:PT1440M
X-PUBLISHED-TTL:PT1440M
BEGIN:VTIMEZONE
TZID:Etc/GMT+0
BEGIN:STANDARD
DTSTART:20240630T180000Z
TZOFFSETFROM:+0000
TZOFFSETTO:+0000
END:STANDARD
END:VTIMEZONE
BEGIN:VTIMEZONE
TZID:UTC
BEGIN:STANDARD
DTSTART:20250723T192240Z
TZOFFSETFROM:+0000
TZOFFSETTO:+0000
END:STANDARD
END:VTIMEZONE
BEGIN:VEVENT
UID:68-58
DTSTAMP:20260419T192240Z
SUMMARY:Taller de Hablar en Público: Presentar el Pitch
LOCATION:
ORGANIZER;CN=Eva Carrasco:MAILTO:eva.carrascogonzalez@gmail.com
DTSTART;TZID=Etc/GMT+0:20250327T180000
DTEND;TZID=Etc/GMT+0:20250327T193000
X-ALT-DESC;FMTTYPE=TEXT/HTML:¿Todavía no sabes cómo preparar tu Elevator
  Pitch?  Prosegur y su Fundación te abre las puertas de sus oficinas par
 a presentarnos el taller de cómo hablar en público. En él\, nos descubr
 irán las claves para enfrentarnos a nuestro Elevator Pitch y aprender té
 cnicas y recursos para ser las mejores oradoras.  El taller está dirigid
 o a&amp;hellip\;
CATEGORIES:PowerToCode
URL;VALUE=URI:https://powertocode.org/mc-events/taller-de-hablar-en-publico
 -presentar-el-pitch/
METHOD:PUBLISH
END:VEVENT
END:VCALENDAR