BEGIN:VCALENDAR
VERSION:2.0
PRODID:spatie/icalendar-generator
DESCRIPTION:Events from Power to code
X-WR-CALDESC:Events from Power to code
REFRESH-INTERVAL;VALUE=DURATION:PT1440M
X-PUBLISHED-TTL:PT1440M
BEGIN:VTIMEZONE
TZID:Etc/GMT+0
BEGIN:STANDARD
DTSTART:20230429T183000Z
TZOFFSETFROM:+0000
TZOFFSETTO:+0000
END:STANDARD
END:VTIMEZONE
BEGIN:VTIMEZONE
TZID:UTC
BEGIN:STANDARD
DTSTART:20250730T030050Z
TZOFFSETFROM:+0000
TZOFFSETTO:+0000
END:STANDARD
END:VTIMEZONE
BEGIN:VEVENT
UID:7-7
DTSTAMP:20260426T030050Z
SUMMARY:Objetivos de Desarrollo Sostenible para Chicas
LOCATION:Online Event
ORGANIZER;CN=Eva Carrasco:MAILTO:eva.carrascogonzalez@gmail.com
DTSTART;TZID=Etc/GMT+0:20240124T183000
DTEND;TZID=Etc/GMT+0:20240124T193000
X-ALT-DESC;FMTTYPE=TEXT/HTML:Para ganar más puntos\, tu app o tu proyecto 
 de inteligencia artificial tiene que ayudar a cumplir uno de los Objetivos
  de Desarrollo Sostenible (ODS) o SDG en inglés. Este taller orientado a 
 chicas participantes nos descubre de forma divertida cuáles son los ODS. 
 Imparten el taller voluntarios de la Fundación NTT DATA. Ven preparada&amp;he
 llip\;
CATEGORIES:PowerToCode
URL;VALUE=URI:https://powertocode.org/mc-events/objetivos-de-desarrollo-sos
 tenible-para-chicas/
METHOD:PUBLISH
END:VEVENT
END:VCALENDAR