BEGIN:VCALENDAR
VERSION:2.0
PRODID:spatie/icalendar-generator
DESCRIPTION:Events from Power to code
X-WR-CALDESC:Events from Power to code
REFRESH-INTERVAL;VALUE=DURATION:PT1440M
X-PUBLISHED-TTL:PT1440M
BEGIN:VTIMEZONE
TZID:Etc/GMT+0
BEGIN:STANDARD
DTSTART:20240712T183000Z
TZOFFSETFROM:+0000
TZOFFSETTO:+0000
END:STANDARD
END:VTIMEZONE
BEGIN:VTIMEZONE
TZID:UTC
BEGIN:STANDARD
DTSTART:20250723T192634Z
TZOFFSETFROM:+0000
TZOFFSETTO:+0000
END:STANDARD
END:VTIMEZONE
BEGIN:VEVENT
UID:70-61
DTSTAMP:20260419T192634Z
SUMMARY:Grabar y editar el pitch Technovation Girls Madrid 2025
LOCATION:
ORGANIZER;CN=Eva Carrasco:MAILTO:eva.carrascogonzalez@gmail.com
DTSTART;TZID=Etc/GMT+0:20250408T183000
DTEND;TZID=Etc/GMT+0:20250408T200000
X-ALT-DESC;FMTTYPE=TEXT/HTML:Un taller sobre grabar y editar un \"pitch\" (
 presentación breve y persuasiva) puede ser muy útil para aquellos que de
 seen aprender a comunicar eficazmente sus ideas\, proyectos o productos. P
 ensamos que puede ayudarate en tu presentación para el proyecto. Este tal
 ler será grabado y publicado en nuestro canal de Youtube. Cuando te regis
 tras\, estás autorizando&amp;hellip\;
CATEGORIES:PowerToCode
URL;VALUE=URI:https://powertocode.org/mc-events/grabar-y-editar-el-pitch-te
 chnovation-girls-madrid-2025/
METHOD:PUBLISH
END:VEVENT
END:VCALENDAR