BEGIN:VCALENDAR
VERSION:2.0
PRODID:spatie/icalendar-generator
DESCRIPTION:Events from Power to code
X-WR-CALDESC:Events from Power to code
REFRESH-INTERVAL;VALUE=DURATION:PT1440M
X-PUBLISHED-TTL:PT1440M
BEGIN:VTIMEZONE
TZID:Etc/GMT+0
BEGIN:STANDARD
DTSTART:20240728T183000Z
TZOFFSETFROM:+0000
TZOFFSETTO:+0000
END:STANDARD
END:VTIMEZONE
BEGIN:VTIMEZONE
TZID:UTC
BEGIN:STANDARD
DTSTART:20250723T221710Z
TZOFFSETFROM:+0000
TZOFFSETTO:+0000
END:STANDARD
END:VTIMEZONE
BEGIN:VEVENT
UID:74-65
DTSTAMP:20260419T221710Z
SUMMARY:Encuentro Alumnae Technovation Girls 2025
LOCATION:Digitaliza Madrid Calle de Embajadores\, 181  Madrid Madrid 28045
ORGANIZER;CN=Eva Carrasco:MAILTO:eva.carrascogonzalez@gmail.com
DTSTART;TZID=Etc/GMT+0:20250424T183000
DTEND;TZID=Etc/GMT+0:20250424T210000
X-ALT-DESC;FMTTYPE=TEXT/HTML:¡Enhorabuena por dar el paso y unirte a nuest
 ra red de Technovation Alumnae! Nos hace muchísima ilusión contar contig
 o en esta comunidad de chicas apasionadas por la tecnología\, la innovaci
 ón y con ganas de cambiar el mundo. Queremos que esta red sea un espacio 
 donde puedas seguir aprendiendo\, conectando con otras ex-participantes y\
 , por supuesto\,&amp;hellip\;
CATEGORIES:Alumnae
URL;VALUE=URI:https://powertocode.org/mc-events/encuentro-alumnae-technovat
 ion-girls-2025/
METHOD:PUBLISH
END:VEVENT
END:VCALENDAR