BEGIN:VCALENDAR
VERSION:2.0
PRODID:spatie/icalendar-generator
DESCRIPTION:Events from Power to code
X-WR-CALDESC:Events from Power to code
REFRESH-INTERVAL;VALUE=DURATION:PT1440M
X-PUBLISHED-TTL:PT1440M
BEGIN:VTIMEZONE
TZID:Etc/GMT+0
BEGIN:STANDARD
DTSTART:20240928T000000Z
TZOFFSETFROM:+0000
TZOFFSETTO:+0000
END:STANDARD
END:VTIMEZONE
BEGIN:VTIMEZONE
TZID:UTC
BEGIN:STANDARD
DTSTART:20250729T131730Z
TZOFFSETFROM:+0000
TZOFFSETTO:+0000
END:STANDARD
END:VTIMEZONE
BEGIN:VEVENT
UID:77-67
DTSTAMP:20260425T131730Z
SUMMARY:Evento presencial  CAE / IBERIA 25 de junio
LOCATION:
ORGANIZER;CN=Eva Carrasco:MAILTO:eva.carrascogonzalez@gmail.com
DTSTART;TZID=Etc/GMT+0;VALUE=DATE:20250625
DTEND;TZID=Etc/GMT+0;VALUE=DATE:20250626
X-ALT-DESC;FMTTYPE=TEXT/HTML:­ ­ ¡Hola chicas! ¿Has soñado alguna vez 
 con volar\, diseñar aviones o convertirte en una experta en el mantenimie
 nto aeronáutico? Si es así\, ¡tenemos una gran noticia para ti! &amp;nbsp\;
  🎉 Vuelve “Quiero Ser” \, iniciativa de Iberia en colaboración c
 on CAE y Technovation Girls Madrid\, pensada para despertar tu vocación a
 eronáutica y mostrarte las Múltiples&amp;hellip\;
CATEGORIES:PowerToCode
URL;VALUE=URI:https://powertocode.org/mc-events/evento-presencial-cae-iberi
 a-25-de-junio/
METHOD:PUBLISH
END:VEVENT
END:VCALENDAR