BEGIN:VCALENDAR
VERSION:2.0
PRODID:spatie/icalendar-generator
DESCRIPTION:Events from Power to code
X-WR-CALDESC:Events from Power to code
REFRESH-INTERVAL;VALUE=DURATION:PT1440M
X-PUBLISHED-TTL:PT1440M
BEGIN:VTIMEZONE
TZID:Etc/GMT+0
BEGIN:STANDARD
DTSTART:20250112T180000Z
TZOFFSETFROM:+0000
TZOFFSETTO:+0000
END:STANDARD
END:VTIMEZONE
BEGIN:VTIMEZONE
TZID:UTC
BEGIN:STANDARD
DTSTART:20250723T201958Z
TZOFFSETFROM:+0000
TZOFFSETTO:+0000
END:STANDARD
END:VTIMEZONE
BEGIN:VEVENT
UID:81-71
DTSTAMP:20260419T201958Z
SUMMARY:Presentación Technovation Girls Madrid 2026
LOCATION:Sede COIIM 10 Calle de Javier Ferrero\, 28002 Madrid  Madrid MD 28
 002
ORGANIZER;CN=Eva Carrasco:MAILTO:eva.carrascogonzalez@gmail.com
DTSTART;TZID=Etc/GMT+0:20251009T180000
DTEND;TZID=Etc/GMT+0:20251009T193000
X-ALT-DESC;FMTTYPE=TEXT/HTML:Arrancamos la temporada de Technovation Girls 
 2026 y nos gustaría contar contigo para que nos ayudes a inspirar a niña
 s y jóvenes para que se conviertan en líderes e innovadoras. Os contarem
 os qué es Technovation Girls y distintas formas de participar en la tempo
 rada 2026. Contaremos con la inspiración de niñas\, mentores y padres qu
 e&amp;hellip\;
CATEGORIES:PowerToCode
URL;VALUE=URI:https://powertocode.org/mc-events/presentacion-technovation-g
 irls-madrid-2026/
METHOD:PUBLISH
END:VEVENT
END:VCALENDAR