BEGIN:VCALENDAR
VERSION:2.0
PRODID:spatie/icalendar-generator
DESCRIPTION:Events from Power to code
X-WR-CALDESC:Events from Power to code
REFRESH-INTERVAL;VALUE=DURATION:PT1440M
X-PUBLISHED-TTL:PT1440M
BEGIN:VTIMEZONE
TZID:Etc/GMT+0
BEGIN:STANDARD
DTSTART:20250210T180000Z
TZOFFSETFROM:+0000
TZOFFSETTO:+0000
END:STANDARD
END:VTIMEZONE
BEGIN:VTIMEZONE
TZID:UTC
BEGIN:STANDARD
DTSTART:20250723T190215Z
TZOFFSETFROM:+0000
TZOFFSETTO:+0000
END:STANDARD
END:VTIMEZONE
BEGIN:VEVENT
UID:93-80
DTSTAMP:20260419T190215Z
SUMMARY:Presentación Technovation Girls Madrid 2026 - Brunete
LOCATION:Centro Cultural Aniceto Marinas - Brunete C. del Campo\, 21  Brune
 te Madrid
ORGANIZER;CN=Eva Carrasco:MAILTO:eva.carrascogonzalez@gmail.com
DTSTART;TZID=Etc/GMT+0:20251107T180000
DTEND;TZID=Etc/GMT+0:20251107T190000
X-ALT-DESC;FMTTYPE=TEXT/HTML:
CATEGORIES:PowerToCode
URL;VALUE=URI:https://powertocode.org/mc-events/presentacion-technovation-g
 irls-madrid-2026-brunete/
METHOD:PUBLISH
END:VEVENT
END:VCALENDAR