BEGIN:VCALENDAR
VERSION:2.0
PRODID:spatie/icalendar-generator
DESCRIPTION:Events from Power to code
X-WR-CALDESC:Events from Power to code
REFRESH-INTERVAL;VALUE=DURATION:PT1440M
X-PUBLISHED-TTL:PT1440M
BEGIN:VTIMEZONE
TZID:Etc/GMT+0
BEGIN:STANDARD
DTSTART:20250325T113000Z
TZOFFSETFROM:+0000
TZOFFSETTO:+0000
END:STANDARD
END:VTIMEZONE
BEGIN:VTIMEZONE
TZID:UTC
BEGIN:STANDARD
DTSTART:20250723T204830Z
TZOFFSETFROM:+0000
TZOFFSETTO:+0000
END:STANDARD
END:VTIMEZONE
BEGIN:VEVENT
UID:95-82
DTSTAMP:20260419T204830Z
SUMMARY:Presentación Technovation Girls Madrid 2026 - Biblioteca Pública 
 Usera José Hierro
LOCATION:Biblioteca Jóse Hierro Usera Avenida de Rafaela Ybarra\, 43  Madr
 id Madrid 28026
ORGANIZER;CN=Eva Carrasco:MAILTO:eva.carrascogonzalez@gmail.com
DTSTART;TZID=Etc/GMT+0:20251220T113000
DTEND;TZID=Etc/GMT+0:20251220T123000
X-ALT-DESC;FMTTYPE=TEXT/HTML:
CATEGORIES:PowerToCode
URL;VALUE=URI:https://powertocode.org/mc-events/presentacion-technovation-g
 irls-madrid-2026-biblioteca-publica-usera-jose-hierro/
METHOD:PUBLISH
END:VEVENT
END:VCALENDAR