BEGIN:VCALENDAR
VERSION:2.0
PRODID:spatie/icalendar-generator
DESCRIPTION:Events from Power to code
X-WR-CALDESC:Events from Power to code
REFRESH-INTERVAL;VALUE=DURATION:PT1440M
X-PUBLISHED-TTL:PT1440M
BEGIN:VTIMEZONE
TZID:Etc/GMT+0
BEGIN:STANDARD
DTSTART:20250303T183000Z
TZOFFSETFROM:+0000
TZOFFSETTO:+0000
END:STANDARD
END:VTIMEZONE
BEGIN:VTIMEZONE
TZID:UTC
BEGIN:STANDARD
DTSTART:20250723T201838Z
TZOFFSETFROM:+0000
TZOFFSETTO:+0000
END:STANDARD
END:VTIMEZONE
BEGIN:VEVENT
UID:96-83
DTSTAMP:20260419T201838Z
SUMMARY:Presentación Technovation Girls Madrid 2026 -Centro Joven de Alcor
 cón (C/ Maestro Victoria\, 22)
LOCATION:Centro Joven de Alcorcón  C/ Maestro Victoria\, 22  Alcorcón Mad
 rid
ORGANIZER;CN=Eva Carrasco:MAILTO:eva.carrascogonzalez@gmail.com
DTSTART;TZID=Etc/GMT+0:20251128T183000
DTEND;TZID=Etc/GMT+0:20251128T193000
X-ALT-DESC;FMTTYPE=TEXT/HTML:
CATEGORIES:PowerToCode
URL;VALUE=URI:https://powertocode.org/mc-events/presentacion-technovation-g
 irls-madrid-2026-centro-joven-de-alcorcon-c-maestro-victoria-22/
METHOD:PUBLISH
END:VEVENT
END:VCALENDAR