BEGIN:VCALENDAR
VERSION:2.0
PRODID:spatie/icalendar-generator
DESCRIPTION:Events from Power to code
X-WR-CALDESC:Events from Power to code
REFRESH-INTERVAL;VALUE=DURATION:PT1440M
X-PUBLISHED-TTL:PT1440M
BEGIN:VTIMEZONE
TZID:Etc/GMT+0
BEGIN:STANDARD
DTSTART:20250318T120000Z
TZOFFSETFROM:+0000
TZOFFSETTO:+0000
END:STANDARD
END:VTIMEZONE
BEGIN:VTIMEZONE
TZID:UTC
BEGIN:STANDARD
DTSTART:20250723T221814Z
TZOFFSETFROM:+0000
TZOFFSETTO:+0000
END:STANDARD
END:VTIMEZONE
BEGIN:VEVENT
UID:98-85
DTSTAMP:20260419T221814Z
SUMMARY:Formación Mentores Technovation Girls 2026
LOCATION:La Nave  C. Cifuentes\, 5  Villaverde Madrid 28021
ORGANIZER;CN=Eva Carrasco:MAILTO:eva.carrascogonzalez@gmail.com
DTSTART;TZID=Etc/GMT+0:20251213T120000
DTEND;TZID=Etc/GMT+0:20251213T133000
X-ALT-DESC;FMTTYPE=TEXT/HTML:Estimado/a mentor/a\, Nos alegra contar contig
 o en esta nueva temporada de Technovation Girls . Queremos invitarte a p
 articipar en nuestra sesión informativa presencial \, diseñada especia
 lmente para quienes acompañarán a las chicas en su recorrido este año. 
 Durante la sesión hablaremos sobre: Cómo trabajar con los equipos y acom
 pañar su proceso de aprendizaje. Estrategias para comunicarse con los pad
 res&amp;hellip\;
CATEGORIES:PowerToCode
URL;VALUE=URI:https://powertocode.org/mc-events/formacion-mentores-technova
 tion-girls-2026/
METHOD:PUBLISH
END:VEVENT
END:VCALENDAR