BEGIN:VCALENDAR
VERSION:2.0
PRODID:spatie/icalendar-generator
DESCRIPTION:Events from Power to code
X-WR-CALDESC:Events from Power to code
REFRESH-INTERVAL;VALUE=DURATION:PT1440M
X-PUBLISHED-TTL:PT1440M
BEGIN:VTIMEZONE
TZID:Etc/GMT+0
BEGIN:STANDARD
DTSTART:20250317T170000Z
TZOFFSETFROM:+0000
TZOFFSETTO:+0000
END:STANDARD
END:VTIMEZONE
BEGIN:VTIMEZONE
TZID:UTC
BEGIN:STANDARD
DTSTART:20250723T215027Z
TZOFFSETFROM:+0000
TZOFFSETTO:+0000
END:STANDARD
END:VTIMEZONE
BEGIN:VEVENT
UID:99-86
DTSTAMP:20260419T215027Z
SUMMARY:Visita Amazon Technovation Girls 12 de diciembre
LOCATION:
ORGANIZER;CN=Eva Carrasco:MAILTO:eva.carrascogonzalez@gmail.com
DTSTART;TZID=Etc/GMT+0:20251212T170000
DTEND;TZID=Etc/GMT+0:20251212T200000
X-ALT-DESC;FMTTYPE=TEXT/HTML:ientras nos preparamos para iniciar el program
 a   Technovation Girls\, hemos preparado una visita que no te puedes per
 der. Te invitamos a participar en una  visita exclusiva  a las oficinas 
 de Amazon  para las chicas de Technovation\,  el viernes 12 de diciembr
 e de 17.00 a 20.00 hs\,  en AWS Experience -   Torre Foster\, Castella
 na 259A\, Madrid Durante la&amp;hellip\;
CATEGORIES:Alumnae
URL;VALUE=URI:https://powertocode.org/mc-events/visita-amazon-technovation-
 girls-12-de-diciembre/
METHOD:PUBLISH
END:VEVENT
END:VCALENDAR