BEGIN:VCALENDAR
VERSION:2.0
PRODID:spatie/icalendar-generator
DESCRIPTION:Events from Power to code
X-WR-CALDESC:Events from Power to code
REFRESH-INTERVAL;VALUE=DURATION:PT1440M
X-PUBLISHED-TTL:PT1440M
BEGIN:VTIMEZONE
TZID:Etc/GMT+0
BEGIN:STANDARD
DTSTART:20250501T180000Z
TZOFFSETFROM:+0000
TZOFFSETTO:+0000
END:STANDARD
END:VTIMEZONE
BEGIN:VTIMEZONE
TZID:UTC
BEGIN:STANDARD
DTSTART:20250723T173921Z
TZOFFSETFROM:+0000
TZOFFSETTO:+0000
END:STANDARD
END:VTIMEZONE
BEGIN:VEVENT
UID:104-91
DTSTAMP:20260419T173921Z
SUMMARY:Taller App Inventor para Chicas Participantes I
LOCATION:Online Event
ORGANIZER;CN=Eva Carrasco:MAILTO:eva.carrascogonzalez@gmail.com
DTSTART;TZID=Etc/GMT+0:20260126T180000
DTEND;TZID=Etc/GMT+0:20260126T193000
X-ALT-DESC;FMTTYPE=TEXT/HTML:Technovation Girls nos pide resolver un proble
 ma en nuestra comunidad con una app o un proyecto de inteligencia articifi
 cial. En este taller enseñaremos a las chicas participantes a dar sus pri
 meros pasos en AppInventor\, un programa para codificar plicaciones móvil
 es de forma muy sencilla. Escoje entrada indicando si eres Chica Participa
 nte\, Mentor o Padre\, queremos&amp;hellip\;
CATEGORIES:PowerToCode
URL;VALUE=URI:https://powertocode.org/mc-events/taller-app-inventor-para-ch
 icas-participantes-i/
METHOD:PUBLISH
END:VEVENT
END:VCALENDAR