BEGIN:VCALENDAR
VERSION:2.0
PRODID:spatie/icalendar-generator
DESCRIPTION:Events from Power to code
X-WR-CALDESC:Events from Power to code
REFRESH-INTERVAL;VALUE=DURATION:PT1440M
X-PUBLISHED-TTL:PT1440M
BEGIN:VTIMEZONE
TZID:Etc/GMT+0
BEGIN:STANDARD
DTSTART:20230507T183000Z
TZOFFSETFROM:+0000
TZOFFSETTO:+0000
END:STANDARD
END:VTIMEZONE
BEGIN:VTIMEZONE
TZID:UTC
BEGIN:STANDARD
DTSTART:20250730T014016Z
TZOFFSETFROM:+0000
TZOFFSETTO:+0000
END:STANDARD
END:VTIMEZONE
BEGIN:VEVENT
UID:11-11
DTSTAMP:20260426T014016Z
SUMMARY:Introducción al AppInventor para Chicas Participantes I
LOCATION:
ORGANIZER;CN=Eva Carrasco:MAILTO:eva.carrascogonzalez@gmail.com
DTSTART;TZID=Etc/GMT+0:20240201T183000
DTEND;TZID=Etc/GMT+0:20240201T200000
X-ALT-DESC;FMTTYPE=TEXT/HTML:&amp;nbsp\; Technovation Girls nos pide resolver u
 n problema en nuestra comunidad con una app o un proyecto de inteligencia 
 articificial. En este taller enseñaremos a las chicas participantes a dar
  sus primeros pasos en AppInventor\, un programa para codificar plicacione
 s móviles de forma muy sencilla. Escoje entrada indicando si eres Chica P
 articipante\, Mentor o Padre\,&amp;hellip\;
CATEGORIES:PowerToCode
URL;VALUE=URI:https://powertocode.org/mc-events/introduccion-al-appinventor
 -para-chicas-participantes-i/
METHOD:PUBLISH
END:VEVENT
END:VCALENDAR