BEGIN:VCALENDAR
VERSION:2.0
PRODID:spatie/icalendar-generator
DESCRIPTION:Events from Power to code
X-WR-CALDESC:Events from Power to code
REFRESH-INTERVAL;VALUE=DURATION:PT1440M
X-PUBLISHED-TTL:PT1440M
BEGIN:VTIMEZONE
TZID:Etc/GMT+0
BEGIN:STANDARD
DTSTART:20230505T190000Z
TZOFFSETFROM:+0000
TZOFFSETTO:+0000
END:STANDARD
END:VTIMEZONE
BEGIN:VTIMEZONE
TZID:UTC
BEGIN:STANDARD
DTSTART:20250730T030421Z
TZOFFSETFROM:+0000
TZOFFSETTO:+0000
END:STANDARD
END:VTIMEZONE
BEGIN:VEVENT
UID:12-12
DTSTAMP:20260426T030421Z
SUMMARY:Presentación Technovation Girls Madrid 2024 orientado a Padres y M
 adres
LOCATION:
ORGANIZER;CN=Eva Carrasco:MAILTO:eva.carrascogonzalez@gmail.com
DTSTART;TZID=Etc/GMT+0:20240130T190000
DTEND;TZID=Etc/GMT+0:20240130T200000
X-ALT-DESC;FMTTYPE=TEXT/HTML:Acerca de este evento Estamos en marcha\, con
  Technovation Girls 2024 \, en esta sesión queremos contaros como podei
 s apoyar a vuestras hijas a finalizar su proyecto y que van a necesitar de
  vosotros. Os contaremos qué es Technovation Girls y distintas formas d
 e participar en la temporada 2024. E l evento también se retransmitirá e
 n directo. Power to&amp;hellip\;
CATEGORIES:PowerToCode
URL;VALUE=URI:https://powertocode.org/mc-events/presentacion-technovation-g
 irls-madrid-2024-orientado-a-padres-y-madres/
METHOD:PUBLISH
END:VEVENT
END:VCALENDAR