BEGIN:VCALENDAR
VERSION:2.0
PRODID:spatie/icalendar-generator
DESCRIPTION:Events from Power to code
X-WR-CALDESC:Events from Power to code
REFRESH-INTERVAL;VALUE=DURATION:PT1440M
X-PUBLISHED-TTL:PT1440M
BEGIN:VTIMEZONE
TZID:Etc/GMT+0
BEGIN:STANDARD
DTSTART:20230602T183000Z
TZOFFSETFROM:+0000
TZOFFSETTO:+0000
END:STANDARD
END:VTIMEZONE
BEGIN:VTIMEZONE
TZID:UTC
BEGIN:STANDARD
DTSTART:20250729T212450Z
TZOFFSETFROM:+0000
TZOFFSETTO:+0000
END:STANDARD
END:VTIMEZONE
BEGIN:VEVENT
UID:18-17
DTSTAMP:20260425T212450Z
SUMMARY:Inteligencia Artificial para Chicar participantes II
LOCATION:
ORGANIZER;CN=Eva Carrasco:MAILTO:eva.carrascogonzalez@gmail.com
DTSTART;TZID=Etc/GMT+0:20240227T183000
DTEND;TZID=Etc/GMT+0:20240227T200000
X-ALT-DESC;FMTTYPE=TEXT/HTML:Technovation Girls nos pide resolver un proble
 ma en nuestra comunidad con una app o un proyecto de inteligencia artifici
 al. En este taller las chicas participantes seguirán avanzando en sus con
 ocimientos sobre Inteligencia Artificial El número de entradas es limitad
 o y está reservado para que las menores participantes puedan interactuar 
 con la ponente. S i eres&amp;hellip\;
CATEGORIES:PowerToCode
URL;VALUE=URI:https://powertocode.org/mc-events/inteligencia-artificial-par
 a-chicar-participantes-ii/
METHOD:PUBLISH
END:VEVENT
END:VCALENDAR