BEGIN:VCALENDAR
VERSION:2.0
PRODID:spatie/icalendar-generator
DESCRIPTION:Events from Power to code
X-WR-CALDESC:Events from Power to code
REFRESH-INTERVAL;VALUE=DURATION:PT1440M
X-PUBLISHED-TTL:PT1440M
BEGIN:VTIMEZONE
TZID:Etc/GMT+0
BEGIN:STANDARD
DTSTART:20230529T103000Z
TZOFFSETFROM:+0000
TZOFFSETTO:+0000
END:STANDARD
END:VTIMEZONE
BEGIN:VTIMEZONE
TZID:UTC
BEGIN:STANDARD
DTSTART:20250729T231220Z
TZOFFSETFROM:+0000
TZOFFSETTO:+0000
END:STANDARD
END:VTIMEZONE
BEGIN:VEVENT
UID:19-18
DTSTAMP:20260425T231220Z
SUMMARY:Visita las instalaciones de Siemens Tres Cantos
LOCATION:
ORGANIZER;CN=Eva Carrasco:MAILTO:eva.carrascogonzalez@gmail.com
DTSTART;TZID=Etc/GMT+0:20240223T103000
DTEND;TZID=Etc/GMT+0:20240223T140000
X-ALT-DESC;FMTTYPE=TEXT/HTML:Visita las instalaciones de Siemens Tres Canto
 s en colaboración con Technovation Girls Madrid para Chica y Mentor@s. Du
 rante la visita conoceremos el Democenter\, realizaremos un taller de señ
 alización ferroviaria con Arduino\, conoceremos qué es la Inteligencia A
 rtificial\, visitaremos el Digital Experience Center\, y charlaremos con m
 ujeres referentes STEM.   Las condiciones para participar son: estar&amp;hell
 ip\;
CATEGORIES:PowerToCode
URL;VALUE=URI:https://powertocode.org/mc-events/visita-las-instalaciones-de
 -siemens-tres-cantos/
METHOD:PUBLISH
END:VEVENT
END:VCALENDAR