BEGIN:VCALENDAR
VERSION:2.0
PRODID:spatie/icalendar-generator
DESCRIPTION:Events from Power to code
X-WR-CALDESC:Events from Power to code
REFRESH-INTERVAL;VALUE=DURATION:PT1440M
X-PUBLISHED-TTL:PT1440M
BEGIN:VTIMEZONE
TZID:Etc/GMT+0
BEGIN:STANDARD
DTSTART:20230617T000000Z
TZOFFSETFROM:+0000
TZOFFSETTO:+0000
END:STANDARD
END:VTIMEZONE
BEGIN:VTIMEZONE
TZID:UTC
BEGIN:STANDARD
DTSTART:20250729T183641Z
TZOFFSETFROM:+0000
TZOFFSETTO:+0000
END:STANDARD
END:VTIMEZONE
BEGIN:VEVENT
UID:20-19
DTSTAMP:20260425T183641Z
SUMMARY:Fecha limite para inscribirte e inscribir el equipo en la plataform
 a
LOCATION:
ORGANIZER;CN=Eva Carrasco:MAILTO:eva.carrascogonzalez@gmail.com
DTSTART;TZID=Etc/GMT+0;VALUE=DATE:20240313
DTEND;TZID=Etc/GMT+0;VALUE=DATE:20240314
X-ALT-DESC;FMTTYPE=TEXT/HTML:¡Atención a todas las futuras líderes tecno
 lógicas! La fecha de inscripción para Technovation Girls ha llegado a su
  fin. Agradecemos a todos los que se han registrado y estamos emocionados 
 por el increíble viaje que nos espera. Para aquellos que no pudieron insc
 ribirse esta vez\, no se preocupen\, ¡habrá más oportunidades en el fut
 uro! Mientras&amp;hellip\;
CATEGORIES:Technovation
URL;VALUE=URI:https://powertocode.org/mc-events/fecha-limite-para-inscribir
 te-e-inscribir-el-equipo-en-la-plataforma/
METHOD:PUBLISH
END:VEVENT
END:VCALENDAR