BEGIN:VCALENDAR
VERSION:2.0
PRODID:spatie/icalendar-generator
DESCRIPTION:Events from Power to code
X-WR-CALDESC:Events from Power to code
REFRESH-INTERVAL;VALUE=DURATION:PT1440M
X-PUBLISHED-TTL:PT1440M
BEGIN:VTIMEZONE
TZID:Etc/GMT+0
BEGIN:STANDARD
DTSTART:20230725T000000Z
TZOFFSETFROM:+0000
TZOFFSETTO:+0000
END:STANDARD
END:VTIMEZONE
BEGIN:VTIMEZONE
TZID:UTC
BEGIN:STANDARD
DTSTART:20250729T153632Z
TZOFFSETFROM:+0000
TZOFFSETTO:+0000
END:STANDARD
END:VTIMEZONE
BEGIN:VEVENT
UID:23-22
DTSTAMP:20260425T153632Z
SUMMARY:Cierre plazo de inscripciones para Jueces
LOCATION:
ORGANIZER;CN=Eva Carrasco:MAILTO:eva.carrascogonzalez@gmail.com
DTSTART;TZID=Etc/GMT+0:20240420T000000
DTEND;TZID=Etc/GMT+0:20240420T000000
X-ALT-DESC;FMTTYPE=TEXT/HTML:
CATEGORIES:Technovation
URL;VALUE=URI:https://powertocode.org/mc-events/cierre-plazo-de-inscripcion
 es-para-jueces/
METHOD:PUBLISH
END:VEVENT
END:VCALENDAR