BEGIN:VCALENDAR
VERSION:2.0
PRODID:spatie/icalendar-generator
DESCRIPTION:Events from Power to code
X-WR-CALDESC:Events from Power to code
REFRESH-INTERVAL;VALUE=DURATION:PT1440M
X-PUBLISHED-TTL:PT1440M
BEGIN:VTIMEZONE
TZID:Etc/GMT+0
BEGIN:STANDARD
DTSTART:20230709T183000Z
TZOFFSETFROM:+0000
TZOFFSETTO:+0000
END:STANDARD
END:VTIMEZONE
BEGIN:VTIMEZONE
TZID:UTC
BEGIN:STANDARD
DTSTART:20250729T154305Z
TZOFFSETFROM:+0000
TZOFFSETTO:+0000
END:STANDARD
END:VTIMEZONE
BEGIN:VEVENT
UID:25-24
DTSTAMP:20260425T154305Z
SUMMARY:Hablar en público: presentar el pitch
LOCATION:Sede COIIM 10 Calle de Javier Ferrero\, 28002 Madrid  Madrid MD 28
 002
ORGANIZER;CN=Eva Carrasco:MAILTO:eva.carrascogonzalez@gmail.com
DTSTART;TZID=Etc/GMT+0:20240404T183000
DTEND;TZID=Etc/GMT+0:20240404T200000
X-ALT-DESC;FMTTYPE=TEXT/HTML:Para ganar más puntos\, es importante explica
 r bien en qué consiste tu app o tu proyecto de inteligencia artificial c
 ómo ayuda a cumplir uno de los Objetivos de Desarrollo Sostenible (ODS) o
  SDG en inglés. En este taller te enseñamos a preparar el guión de tu v
 ídeo y te daremos consejos para la presentación en&amp;hellip\;
CATEGORIES:PowerToCode
URL;VALUE=URI:https://powertocode.org/mc-events/hablar-en-publico-presentar
 -el-pitch/
METHOD:PUBLISH
END:VEVENT
END:VCALENDAR