BEGIN:VCALENDAR
VERSION:2.0
PRODID:spatie/icalendar-generator
DESCRIPTION:Events from Power to code
X-WR-CALDESC:Events from Power to code
REFRESH-INTERVAL;VALUE=DURATION:PT1440M
X-PUBLISHED-TTL:PT1440M
BEGIN:VTIMEZONE
TZID:Etc/GMT+0
BEGIN:STANDARD
DTSTART:20230829T000000Z
TZOFFSETFROM:+0000
TZOFFSETTO:+0000
END:STANDARD
END:VTIMEZONE
BEGIN:VTIMEZONE
TZID:UTC
BEGIN:STANDARD
DTSTART:20250729T125916Z
TZOFFSETFROM:+0000
TZOFFSETTO:+0000
END:STANDARD
END:VTIMEZONE
BEGIN:VEVENT
UID:29-27
DTSTAMP:20260425T125916Z
SUMMARY:Final Regional Technovation Girls Madrid
LOCATION:UC3M Leganés – Madrid. Avda. de la Universidad\, 30   Leganes M
 adrid 28911
ORGANIZER;CN=Eva Carrasco:MAILTO:eva.carrascogonzalez@gmail.com
DTSTART;TZID=Etc/GMT+0;VALUE=DATE:20240525
DTEND;TZID=Etc/GMT+0;VALUE=DATE:20240526
X-ALT-DESC;FMTTYPE=TEXT/HTML:Enhorabuena a tod@s por vuestra participación
  en Technovation Girls. El 25 de mayo celebramos junto con la Universidad 
 Carlos III de Madrid Final la Regional de Technovation Girls Madrid en su 
 campus de Leganés. E l evento se desarrollará en dos turnos\, mañana o 
 tarde. Elige el mismo turno al que te apuntaste en la&amp;hellip\;
CATEGORIES:PowerToCode
URL;VALUE=URI:https://powertocode.org/mc-events/final-regional-technovation
 -girls-madrid/
METHOD:PUBLISH
END:VEVENT
END:VCALENDAR