BEGIN:VCALENDAR
VERSION:2.0
PRODID:spatie/icalendar-generator
DESCRIPTION:Events from Power to code
X-WR-CALDESC:Events from Power to code
REFRESH-INTERVAL;VALUE=DURATION:PT1440M
X-PUBLISHED-TTL:PT1440M
BEGIN:VTIMEZONE
TZID:Etc/GMT+0
BEGIN:STANDARD
DTSTART:20231212T120000Z
TZOFFSETFROM:+0000
TZOFFSETTO:+0000
END:STANDARD
END:VTIMEZONE
BEGIN:VTIMEZONE
TZID:UTC
BEGIN:STANDARD
DTSTART:20250729T113846Z
TZOFFSETFROM:+0000
TZOFFSETTO:+0000
END:STANDARD
END:VTIMEZONE
BEGIN:VEVENT
UID:34-32
DTSTAMP:20260425T113846Z
SUMMARY:Presentación Technovation Girls 2025
LOCATION:Aravaca Innovation Lab AIL  Calle de Caroli. 1   Madrid Madrid 280
 23
ORGANIZER;CN=Eva Carrasco:MAILTO:eva.carrascogonzalez@gmail.com
DTSTART;TZID=Etc/GMT+0:20240907T120000
DTEND;TZID=Etc/GMT+0:20240907T133000
X-ALT-DESC;FMTTYPE=TEXT/HTML:Damos inicio a la temporada 2025 de Technovati
 on Girls y te invitamos a sumarte para inspirar a niñas y jóvenes\, impu
 lsándolas a ser líderes e innovadoras. Technovation Girls\, un programa 
 de emprendimiento social y tecnológico para chicas de 8 a 18 años. Con s
 us mentores\, abordan desafíos comunitarios usando tecnología\, cultivan
 do habilidades técnicas\, innovación\, creatividad\,&amp;hellip\;
CATEGORIES:PowerToCode
URL;VALUE=URI:https://powertocode.org/mc-events/presentacion-technovation-g
 irls-2025/
METHOD:PUBLISH
END:VEVENT
END:VCALENDAR