BEGIN:VCALENDAR
VERSION:2.0
PRODID:spatie/icalendar-generator
DESCRIPTION:Events from Power to code
X-WR-CALDESC:Events from Power to code
REFRESH-INTERVAL;VALUE=DURATION:PT1440M
X-PUBLISHED-TTL:PT1440M
BEGIN:VTIMEZONE
TZID:Etc/GMT+0
BEGIN:STANDARD
DTSTART:20231224T183000Z
TZOFFSETFROM:+0000
TZOFFSETTO:+0000
END:STANDARD
END:VTIMEZONE
BEGIN:VTIMEZONE
TZID:UTC
BEGIN:STANDARD
DTSTART:20250729T112410Z
TZOFFSETFROM:+0000
TZOFFSETTO:+0000
END:STANDARD
END:VTIMEZONE
BEGIN:VEVENT
UID:38-35
DTSTAMP:20260425T112410Z
SUMMARY:Singularity- Oportunidades en un mundo de cambios exponenciales
LOCATION:
ORGANIZER;CN=Eva Carrasco:MAILTO:eva.carrascogonzalez@gmail.com
DTSTART;TZID=Etc/GMT+0:20240919T183000
DTEND;TZID=Etc/GMT+0:20240919T213000
X-ALT-DESC;FMTTYPE=TEXT/HTML:Singularity- Oportunidades en un mundo de camb
 ios exponenciales Cómo personas y organizaciones están aprovechando la t
 ecnología para navegar la incertidumbre y generar un impacto positivo en 
 el mundo.
CATEGORIES:PowerToCode
URL;VALUE=URI:https://powertocode.org/mc-events/singularity-oportunidades-e
 n-un-mundo-de-cambios-exponenciales/
METHOD:PUBLISH
END:VEVENT
END:VCALENDAR