BEGIN:VCALENDAR
VERSION:2.0
PRODID:spatie/icalendar-generator
DESCRIPTION:Events from Power to code
X-WR-CALDESC:Events from Power to code
REFRESH-INTERVAL;VALUE=DURATION:PT1440M
X-PUBLISHED-TTL:PT1440M
BEGIN:VTIMEZONE
TZID:Etc/GMT+0
BEGIN:STANDARD
DTSTART:20240711T000000Z
TZOFFSETFROM:+0000
TZOFFSETTO:+0000
END:STANDARD
END:VTIMEZONE
BEGIN:VTIMEZONE
TZID:UTC
BEGIN:STANDARD
DTSTART:20250723T191210Z
TZOFFSETFROM:+0000
TZOFFSETTO:+0000
END:STANDARD
END:VTIMEZONE
BEGIN:VEVENT
UID:45-41
DTSTAMP:20260419T191210Z
SUMMARY:La inscripción de jueces se abre la semana del 7 de abril de 2025.
LOCATION:
ORGANIZER;CN=Eva Carrasco:MAILTO:eva.carrascogonzalez@gmail.com
DTSTART;TZID=Etc/GMT+0;VALUE=DATE:20250407
DTEND;TZID=Etc/GMT+0;VALUE=DATE:20250408
X-ALT-DESC;FMTTYPE=TEXT/HTML:Esto les dará a los jueces suficiente tiempo 
 para registrarse y completar la incorporación antes de nuestra primera ro
 nda de evaluación. La primera ronda de evaluación para la temporada 2025
  comienza el 8 de mayo.
CATEGORIES:Technovation
URL;VALUE=URI:https://powertocode.org/mc-events/la-inscripcion-de-jueces-se
 -abre-la-semana-del-7-de-abril-de-2025/
METHOD:PUBLISH
END:VEVENT
END:VCALENDAR