BEGIN:VCALENDAR
VERSION:2.0
PRODID:spatie/icalendar-generator
DESCRIPTION:Events from Power to code
X-WR-CALDESC:Events from Power to code
REFRESH-INTERVAL;VALUE=DURATION:PT1440M
X-PUBLISHED-TTL:PT1440M
BEGIN:VTIMEZONE
TZID:Etc/GMT+0
BEGIN:STANDARD
DTSTART:20240503T183000Z
TZOFFSETFROM:+0000
TZOFFSETTO:+0000
END:STANDARD
END:VTIMEZONE
BEGIN:VTIMEZONE
TZID:UTC
BEGIN:STANDARD
DTSTART:20250723T214228Z
TZOFFSETFROM:+0000
TZOFFSETTO:+0000
END:STANDARD
END:VTIMEZONE
BEGIN:VEVENT
UID:56-49
DTSTAMP:20260419T214228Z
SUMMARY:Introducción al AppInventor para Chicas Participantes I
LOCATION:
ORGANIZER;CN=Eva Carrasco:MAILTO:eva.carrascogonzalez@gmail.com
DTSTART;TZID=Etc/GMT+0:20250128T183000
DTEND;TZID=Etc/GMT+0:20250128T200000
X-ALT-DESC;FMTTYPE=TEXT/HTML:Technovation Girls nos pide resolver un proble
 ma en nuestra comunidad con una app o un proyecto de inteligencia articifi
 cial. En este taller enseñaremos a las chicas participantes a dar sus pri
 meros pasos en AppInventor\, un programa para codificar plicaciones móvil
 es de forma muy sencilla. Escoje entrada indicando si eres Chica Participa
 nte\, Mentor o Padre\, queremos&amp;hellip\;
CATEGORIES:PowerToCode
URL;VALUE=URI:https://powertocode.org/mc-events/introduccion-al-appinventor
 -para-chicas-participantes-i-2/
METHOD:PUBLISH
END:VEVENT
END:VCALENDAR