BEGIN:VCALENDAR
VERSION:2.0
PRODID:spatie/icalendar-generator
DESCRIPTION:Events from Power to code
X-WR-CALDESC:Events from Power to code
REFRESH-INTERVAL;VALUE=DURATION:PT1440M
X-PUBLISHED-TTL:PT1440M
BEGIN:VTIMEZONE
TZID:Etc/GMT+0
BEGIN:STANDARD
DTSTART:20240611T100000Z
TZOFFSETFROM:+0000
TZOFFSETTO:+0000
END:STANDARD
END:VTIMEZONE
BEGIN:VTIMEZONE
TZID:UTC
BEGIN:STANDARD
DTSTART:20250723T201815Z
TZOFFSETFROM:+0000
TZOFFSETTO:+0000
END:STANDARD
END:VTIMEZONE
BEGIN:VEVENT
UID:59-52
DTSTAMP:20260419T201815Z
SUMMARY:Encuentro de Equipos Technovation Girls Madrid 2025 en La Nave Boet
 tiche
LOCATION:C. Cifuentes\, 5\, Villaverde\, 28021 Madrid
ORGANIZER;CN=Eva Carrasco:MAILTO:eva.carrascogonzalez@gmail.com
DTSTART;TZID=Etc/GMT+0:20250308T100000
DTEND;TZID=Etc/GMT+0:20250308T140000
X-ALT-DESC;FMTTYPE=TEXT/HTML:ENCUENTRO DE EQUIPOS TECHNOVATION GIRLS MADRID
  PRESENCIAL en La Nave C/ Cifuentes 5\, el próximo 8 de Marzo\, Sabado de
  10 a 14h. ¡Únete a nosotros en el evento intermedio para Equipos! Este 
 encuentro está pensado para ofrecer a los equipos la oportunidad de encon
 trarse con otros equipos Technovation\, participar de talleres y actividad
 es y&amp;hellip\;
CATEGORIES:PowerToCode
URL;VALUE=URI:https://powertocode.org/mc-events/encuentro-de-equipos-techno
 vation-girls-madrid-2025-en-la-nave-boettiche/
METHOD:PUBLISH
END:VEVENT
END:VCALENDAR