BEGIN:VCALENDAR
VERSION:2.0
PRODID:spatie/icalendar-generator
DESCRIPTION:Events from Power to code
X-WR-CALDESC:Events from Power to code
REFRESH-INTERVAL;VALUE=DURATION:PT1440M
X-PUBLISHED-TTL:PT1440M
BEGIN:VTIMEZONE
TZID:Etc/GMT+0
BEGIN:STANDARD
DTSTART:20240606T093000Z
TZOFFSETFROM:+0000
TZOFFSETTO:+0000
END:STANDARD
END:VTIMEZONE
BEGIN:VTIMEZONE
TZID:UTC
BEGIN:STANDARD
DTSTART:20250723T173544Z
TZOFFSETFROM:+0000
TZOFFSETTO:+0000
END:STANDARD
END:VTIMEZONE
BEGIN:VEVENT
UID:62-55
DTSTAMP:20260419T173544Z
SUMMARY:TECHNOVATION DELL OPEN DAY
LOCATION:Dell Technologies Ribera del Loira 8\,   MADRID MADRID 28042
ORGANIZER;CN=Eva Carrasco:MAILTO:eva.carrascogonzalez@gmail.com
DTSTART;TZID=Etc/GMT+0:20250303T093000
DTEND;TZID=Etc/GMT+0:20250303T130000
X-ALT-DESC;FMTTYPE=TEXT/HTML:¿Quieres saber cómo se trabaja en una empres
 a tecnológica? Como participante de Technovation Girls\, te invitamos a p
 asar una mañana con nosotros en Dell Technologies. Como patrocinadores de
  Power To Code\, embajadora regional de Technovation Girls\, Dell Technolo
 gies te invita a conocer más en profundidad cómo es trabajar en una de l
 as principales compañías proveedoras&amp;hellip\;
CATEGORIES:PowerToCode
URL;VALUE=URI:https://powertocode.org/mc-events/technovation-dell-open-day/
METHOD:PUBLISH
END:VEVENT
END:VCALENDAR