BEGIN:VCALENDAR
VERSION:2.0
PRODID:spatie/icalendar-generator
DESCRIPTION:Events from Power to code
X-WR-CALDESC:Events from Power to code
REFRESH-INTERVAL;VALUE=DURATION:PT1440M
X-PUBLISHED-TTL:PT1440M
BEGIN:VTIMEZONE
TZID:Etc/GMT+0
BEGIN:STANDARD
DTSTART:20240623T183000Z
TZOFFSETFROM:+0000
TZOFFSETTO:+0000
END:STANDARD
END:VTIMEZONE
BEGIN:VTIMEZONE
TZID:UTC
BEGIN:STANDARD
DTSTART:20250723T221129Z
TZOFFSETFROM:+0000
TZOFFSETTO:+0000
END:STANDARD
END:VTIMEZONE
BEGIN:VEVENT
UID:65-57
DTSTAMP:20260419T221129Z
SUMMARY:Aplicaciones Web  con Python II
LOCATION:
ORGANIZER;CN=Eva Carrasco:MAILTO:eva.carrascogonzalez@gmail.com
DTSTART;TZID=Etc/GMT+0:20250320T183000
DTEND;TZID=Etc/GMT+0:20250320T200000
X-ALT-DESC;FMTTYPE=TEXT/HTML:¡Bienvenidos al emocionante mundo del desarro
 llo de aplicaciones web! Te invitamos a participar en nuestro taller\, don
 de aprenderás a crear tu propia web app de manera sencilla y divertida. E
 n este taller\, diseñado especialmente para principiantes\, exploraremos 
 los conceptos básicos del desarrollo de aplicaciones web. No necesitas te
 ner experiencia previa\, solo ganas de aprender y&amp;hellip\;
CATEGORIES:PowerToCode
URL;VALUE=URI:https://powertocode.org/mc-events/aplicaciones-web-con-python
 -ii/
METHOD:PUBLISH
END:VEVENT
END:VCALENDAR