BEGIN:VCALENDAR
VERSION:2.0
PRODID:spatie/icalendar-generator
DESCRIPTION:Events from Power to code
X-WR-CALDESC:Events from Power to code
REFRESH-INTERVAL;VALUE=DURATION:PT1440M
X-PUBLISHED-TTL:PT1440M
BEGIN:VTIMEZONE
TZID:Etc/GMT+0
BEGIN:STANDARD
DTSTART:20240714T190000Z
TZOFFSETFROM:+0000
TZOFFSETTO:+0000
END:STANDARD
END:VTIMEZONE
BEGIN:VTIMEZONE
TZID:UTC
BEGIN:STANDARD
DTSTART:20250723T221404Z
TZOFFSETFROM:+0000
TZOFFSETTO:+0000
END:STANDARD
END:VTIMEZONE
BEGIN:VEVENT
UID:73-64
DTSTAMP:20260419T221404Z
SUMMARY:Como hacer una subida de proyecto exitosa
LOCATION:
ORGANIZER;CN=Eva Carrasco:MAILTO:eva.carrascogonzalez@gmail.com
DTSTART;TZID=Etc/GMT+0:20250410T190000
DTEND;TZID=Etc/GMT+0:20250410T203000
X-ALT-DESC;FMTTYPE=TEXT/HTML:En este taller te guiaremos en la entrega del 
 proyecto\, que hay que entregar\, formatos y todo lo que necesitas para en
 tregar el proyecto de forma exitosa. El número de entradas es limitado. O
 s rogamos responsabilidad a la hora de adquirir entradas. Por favor no com
 préis entradas si podéis compartir la conexión o seguir el&amp;hellip\;
CATEGORIES:PowerToCode
URL;VALUE=URI:https://powertocode.org/mc-events/como-hacer-una-subida-de-pr
 oyecto-exitosa/
METHOD:PUBLISH
END:VEVENT
END:VCALENDAR