BEGIN:VCALENDAR
VERSION:2.0
PRODID:spatie/icalendar-generator
DESCRIPTION:Events from Power to code
X-WR-CALDESC:Events from Power to code
REFRESH-INTERVAL;VALUE=DURATION:PT1440M
X-PUBLISHED-TTL:PT1440M
BEGIN:VTIMEZONE
TZID:Etc/GMT+0
BEGIN:STANDARD
DTSTART:20240810T190000Z
TZOFFSETFROM:+0000
TZOFFSETTO:+0000
END:STANDARD
END:VTIMEZONE
BEGIN:VTIMEZONE
TZID:UTC
BEGIN:STANDARD
DTSTART:20250725T104545Z
TZOFFSETFROM:+0000
TZOFFSETTO:+0000
END:STANDARD
END:VTIMEZONE
BEGIN:VEVENT
UID:75-66
DTSTAMP:20260421T104545Z
SUMMARY:Formación Jueces Technovation Girls 2025
LOCATION:Online Event
ORGANIZER;CN=Eva Carrasco:MAILTO:eva.carrascogonzalez@gmail.com
DTSTART;TZID=Etc/GMT+0:20250507T190000
DTEND;TZID=Etc/GMT+0:20250507T200000
X-ALT-DESC;FMTTYPE=TEXT/HTML:Webinar para formación introductoria a jueces
  de Technovation Girls Madrid. Asistencia voluntaria. Webinar formación p
 ara jueces de Technovation Girls Madrid 2025. Te contaremos cuál es el ro
 l del juez\, cómo realizar la valoración tanto si vas a participar onlin
 e o presencial en la Final Regional de Madrid. Este webinar es voluntario 
 y no sustituye a&amp;hellip\;
CATEGORIES:PowerToCode
URL;VALUE=URI:https://powertocode.org/mc-events/formacion-jueces-technovati
 on-girls-2025/
METHOD:PUBLISH
END:VEVENT
END:VCALENDAR