BEGIN:VCALENDAR
VERSION:2.0
PRODID:spatie/icalendar-generator
DESCRIPTION:Events from Power to code
X-WR-CALDESC:Events from Power to code
REFRESH-INTERVAL;VALUE=DURATION:PT1440M
X-PUBLISHED-TTL:PT1440M
BEGIN:VTIMEZONE
TZID:Etc/GMT+0
BEGIN:STANDARD
DTSTART:20241012T160000Z
TZOFFSETFROM:+0000
TZOFFSETTO:+0000
END:STANDARD
END:VTIMEZONE
BEGIN:VTIMEZONE
TZID:UTC
BEGIN:STANDARD
DTSTART:20250729T131004Z
TZOFFSETFROM:+0000
TZOFFSETTO:+0000
END:STANDARD
END:VTIMEZONE
BEGIN:VEVENT
UID:78-68
DTSTAMP:20260425T131004Z
SUMMARY:Semifinal Technocation Girls 2025
LOCATION:
ORGANIZER;CN=Eva Carrasco:MAILTO:eva.carrascogonzalez@gmail.com
DTSTART;TZID=Etc/GMT+0:20250709T160000
DTEND;TZID=Etc/GMT+0:20250709T170000
X-ALT-DESC;FMTTYPE=TEXT/HTML:Hoy se publicaran los equipos que pasan a la F
 inal Technocation Girls 2025 Puedes seguir el evento en: https://www.youtu
 be.com/live/JafdY2y0eL0?si=5JtkpsBoW1-4Yc2h
CATEGORIES:Alumnae
URL;VALUE=URI:https://powertocode.org/mc-events/semifinal-technocation-girl
 s-2025/
METHOD:PUBLISH
END:VEVENT
END:VCALENDAR