BEGIN:VCALENDAR
VERSION:2.0
PRODID:spatie/icalendar-generator
DESCRIPTION:Events from Power to code
X-WR-CALDESC:Events from Power to code
REFRESH-INTERVAL;VALUE=DURATION:PT1440M
X-PUBLISHED-TTL:PT1440M
BEGIN:VTIMEZONE
TZID:Etc/GMT+0
BEGIN:STANDARD
DTSTART:20241230T100000Z
TZOFFSETFROM:+0000
TZOFFSETTO:+0000
END:STANDARD
END:VTIMEZONE
BEGIN:VTIMEZONE
TZID:UTC
BEGIN:STANDARD
DTSTART:20250725T101818Z
TZOFFSETFROM:+0000
TZOFFSETTO:+0000
END:STANDARD
END:VTIMEZONE
BEGIN:VEVENT
UID:80-70
DTSTAMP:20260421T101818Z
SUMMARY:Hakaton:Bridging the tech gap
LOCATION:TeamLabs Madrid C/ Hileras\, 18  Madrid Madrid
ORGANIZER;CN=Eva Carrasco:MAILTO:eva.carrascogonzalez@gmail.com
DTSTART;TZID=Etc/GMT+0:20250926T100000
DTEND;TZID=Etc/GMT+0:20250926T180000
X-ALT-DESC;FMTTYPE=TEXT/HTML:8 horas para cerrar el gap tecológico. Resuel
 ve el reto empresarial con tecnología\, trabajo en equipo y creatividad. 
 Aprende\, conecta con otras chicas apasionadas por la tecnología y pásal
 o bien. ¡Invita a tus amigas!
CATEGORIES:Alumnae
URL;VALUE=URI:https://powertocode.org/mc-events/hakatonbridging-the-tech-ga
 p/
METHOD:PUBLISH
END:VEVENT
END:VCALENDAR